BEGIN:VCALENDAR
VERSION:2.0
PRODID:-//Gard 30 - ECPv6.15.20//NONSGML v1.0//EN
CALSCALE:GREGORIAN
METHOD:PUBLISH
X-ORIGINAL-URL:https://www.gard30.fr
X-WR-CALDESC:Évènements pour Gard 30
REFRESH-INTERVAL;VALUE=DURATION:PT1H
X-Robots-Tag:noindex
X-PUBLISHED-TTL:PT1H
BEGIN:VTIMEZONE
TZID:Europe/Paris
BEGIN:DAYLIGHT
TZOFFSETFROM:+0100
TZOFFSETTO:+0200
TZNAME:CEST
DTSTART:20240331T010000
END:DAYLIGHT
BEGIN:STANDARD
TZOFFSETFROM:+0200
TZOFFSETTO:+0100
TZNAME:CET
DTSTART:20241027T010000
END:STANDARD
BEGIN:DAYLIGHT
TZOFFSETFROM:+0100
TZOFFSETTO:+0200
TZNAME:CEST
DTSTART:20250330T010000
END:DAYLIGHT
BEGIN:STANDARD
TZOFFSETFROM:+0200
TZOFFSETTO:+0100
TZNAME:CET
DTSTART:20251026T010000
END:STANDARD
BEGIN:DAYLIGHT
TZOFFSETFROM:+0100
TZOFFSETTO:+0200
TZNAME:CEST
DTSTART:20260329T010000
END:DAYLIGHT
BEGIN:STANDARD
TZOFFSETFROM:+0200
TZOFFSETTO:+0100
TZNAME:CET
DTSTART:20261025T010000
END:STANDARD
END:VTIMEZONE
BEGIN:VEVENT
DTSTART;TZID=Europe/Paris:20250406T140000
DTEND;TZID=Europe/Paris:20250406T170000
DTSTAMP:20260424T022204
CREATED:20250129T212536Z
LAST-MODIFIED:20250129T212601Z
UID:10003000-1743948000-1743958800@www.gard30.fr
SUMMARY:Loto à Bagnols Sur Cèze
DESCRIPTION:F.C. BAGNOLS PONT
URL:https://www.gard30.fr/agenda/loto-a-bagnols-sur-ceze-18/
LOCATION:Salle multiculturelle – Bagnols-sur-Cèze\, Rue Racine\, Bagnols-sur-Cèze\, Gard\, 30200\, France
CATEGORIES:Loto
ATTACH;FMTTYPE=image/jpeg:https://www.gard30.fr/wp-content/uploads/2025/01/351AB0B7-D225-4BB1-9400-448B41DBF94D_1_201_a.jpeg
ORGANIZER;CN="F.C. BAGNOLS PONT":MAILTO:fcbagnolspont1@sfr.fr
GEO:44.1594091;4.6206935
X-APPLE-STRUCTURED-LOCATION;VALUE=URI;X-ADDRESS=Salle multiculturelle – Bagnols-sur-Cèze Rue Racine Bagnols-sur-Cèze Gard 30200 France;X-APPLE-RADIUS=500;X-TITLE=Rue Racine:geo:4.6206935,44.1594091
END:VEVENT
BEGIN:VEVENT
DTSTART;TZID=Europe/Paris:20250223T150000
DTEND;TZID=Europe/Paris:20250223T180000
DTSTAMP:20260424T022204
CREATED:20250217T205438Z
LAST-MODIFIED:20250219T202650Z
UID:10003139-1740322800-1740333600@www.gard30.fr
SUMMARY:Loto à Pont-Saint-Esprit (Football Bagnols Pont)
DESCRIPTION:OUVERTURE DES PORTES 14H \n1500€ DE LOTS \n2€ LE CARTON \n5€ les 3
URL:https://www.gard30.fr/agenda/loto-a-bagnols-sur-ceze-football-bagnols-pont/
LOCATION:CitéZen – Caserne Pépin – Pont-Saint-Esprit\, Pont-Saint-Esprit\, Gard\, 30130\, France
CATEGORIES:Loto
ATTACH;FMTTYPE=image/jpeg:https://www.gard30.fr/wp-content/uploads/2025/02/720F0CDE-B311-4953-936D-B764BB9BDE61.jpeg
ORGANIZER;CN="F.C. BAGNOLS PONT":MAILTO:fcbagnolspont1@sfr.fr
GEO:44.261034;4.648079
END:VEVENT
END:VCALENDAR