BEGIN:VCALENDAR
VERSION:2.0
PRODID:-//Gard 30 - ECPv6.15.20//NONSGML v1.0//EN
CALSCALE:GREGORIAN
METHOD:PUBLISH
X-ORIGINAL-URL:https://www.gard30.fr
X-WR-CALDESC:Évènements pour Gard 30
REFRESH-INTERVAL;VALUE=DURATION:PT1H
X-Robots-Tag:noindex
X-PUBLISHED-TTL:PT1H
BEGIN:VTIMEZONE
TZID:Europe/Paris
BEGIN:DAYLIGHT
TZOFFSETFROM:+0100
TZOFFSETTO:+0200
TZNAME:CEST
DTSTART:20230326T010000
END:DAYLIGHT
BEGIN:STANDARD
TZOFFSETFROM:+0200
TZOFFSETTO:+0100
TZNAME:CET
DTSTART:20231029T010000
END:STANDARD
BEGIN:DAYLIGHT
TZOFFSETFROM:+0100
TZOFFSETTO:+0200
TZNAME:CEST
DTSTART:20240331T010000
END:DAYLIGHT
BEGIN:STANDARD
TZOFFSETFROM:+0200
TZOFFSETTO:+0100
TZNAME:CET
DTSTART:20241027T010000
END:STANDARD
BEGIN:DAYLIGHT
TZOFFSETFROM:+0100
TZOFFSETTO:+0200
TZNAME:CEST
DTSTART:20250330T010000
END:DAYLIGHT
BEGIN:STANDARD
TZOFFSETFROM:+0200
TZOFFSETTO:+0100
TZNAME:CET
DTSTART:20251026T010000
END:STANDARD
END:VTIMEZONE
BEGIN:VEVENT
DTSTART;TZID=Europe/Paris:20241208T150000
DTEND;TZID=Europe/Paris:20241208T180000
DTSTAMP:20260421T030956
CREATED:20241123T125302Z
LAST-MODIFIED:20241123T125302Z
UID:10002406-1733670000-1733680800@www.gard30.fr
SUMMARY:Loto à Saint-Mamert-du-Gard
DESCRIPTION:Loto à Saint-Mamert-du-Gard le 8 décembre 2024 à 15h au profit des plus démunis au Burkinas Faso. \n\n12 quines : cafetières\, friteuse AirFryer\, Machine à pain\, Robot pâtissier\, paniers garnis\n3 Cartons pleins : Tireuse à bière\, Aspirateur x-pert\, Coffret cadeau Wonderbox\nLoterie : Rosette…\n10€ les 6 cartons\n2€ le carton\nRestauration et buvette sur place\n\nVenez nombreux soutenir notre action
URL:https://www.gard30.fr/agenda/loto-a-saint-mamert-du-gard-4/
LOCATION:Foyer municipal Saint-Mamert-du-Gard\, Rue des Écoles\, Saint-Mamert-du-Gard\, Gard\, 30730\, France
CATEGORIES:Loto
ATTACH;FMTTYPE=image/jpeg:https://www.gard30.fr/wp-content/uploads/2024/11/2B0A64ED-3C05-42DC-BD87-BEF78E42772B_1_105_c.jpeg
GEO:43.88836;4.1887679
X-APPLE-STRUCTURED-LOCATION;VALUE=URI;X-ADDRESS=Foyer municipal Saint-Mamert-du-Gard Rue des Écoles Saint-Mamert-du-Gard Gard 30730 France;X-APPLE-RADIUS=500;X-TITLE=Rue des Écoles:geo:4.1887679,43.88836
END:VEVENT
END:VCALENDAR