BEGIN:VCALENDAR
VERSION:2.0
PRODID:-//Gard 30 - ECPv6.15.20//NONSGML v1.0//EN
CALSCALE:GREGORIAN
METHOD:PUBLISH
X-WR-CALNAME:Gard 30
X-ORIGINAL-URL:https://www.gard30.fr
X-WR-CALDESC:Évènements pour Gard 30
REFRESH-INTERVAL;VALUE=DURATION:PT1H
X-Robots-Tag:noindex
X-PUBLISHED-TTL:PT1H
BEGIN:VTIMEZONE
TZID:Europe/Paris
BEGIN:DAYLIGHT
TZOFFSETFROM:+0100
TZOFFSETTO:+0200
TZNAME:CEST
DTSTART:20230326T010000
END:DAYLIGHT
BEGIN:STANDARD
TZOFFSETFROM:+0200
TZOFFSETTO:+0100
TZNAME:CET
DTSTART:20231029T010000
END:STANDARD
BEGIN:DAYLIGHT
TZOFFSETFROM:+0100
TZOFFSETTO:+0200
TZNAME:CEST
DTSTART:20240331T010000
END:DAYLIGHT
BEGIN:STANDARD
TZOFFSETFROM:+0200
TZOFFSETTO:+0100
TZNAME:CET
DTSTART:20241027T010000
END:STANDARD
BEGIN:DAYLIGHT
TZOFFSETFROM:+0100
TZOFFSETTO:+0200
TZNAME:CEST
DTSTART:20250330T010000
END:DAYLIGHT
BEGIN:STANDARD
TZOFFSETFROM:+0200
TZOFFSETTO:+0100
TZNAME:CET
DTSTART:20251026T010000
END:STANDARD
END:VTIMEZONE
BEGIN:VEVENT
DTSTART;TZID=Europe/Paris:20241226T170000
DTEND;TZID=Europe/Paris:20241226T200000
DTSTAMP:20260420T032751
CREATED:20241130T075314Z
LAST-MODIFIED:20241130T080231Z
UID:10002556-1735232400-1735243200@www.gard30.fr
SUMMARY:Loto à Montfrin
DESCRIPTION:Salle du cercle / Salle Badès Midi / Bar Café du commerce \nAttention les horaires et le lieu peuvent varier. Si l’information n’est pas précisée sur cette page\, merci de vous rapprocher directement de l’organisateur.
URL:https://www.gard30.fr/agenda/loto-a-montfrin-9-7/
LOCATION:Salle du Cercle – Montfrin\, Avenue du Docteur Matet\, Montfrin\, Gard\, 30490\, France
CATEGORIES:Loto
ATTACH;FMTTYPE=image/jpeg:https://www.gard30.fr/wp-content/uploads/2024/11/IMG_7989.jpeg
GEO:43.8751614;4.5916717
X-APPLE-STRUCTURED-LOCATION;VALUE=URI;X-ADDRESS=Salle du Cercle – Montfrin Avenue du Docteur Matet Montfrin Gard 30490 France;X-APPLE-RADIUS=500;X-TITLE=Avenue du Docteur Matet:geo:4.5916717,43.8751614
END:VEVENT
BEGIN:VEVENT
DTSTART;TZID=Europe/Paris:20241222T170000
DTEND;TZID=Europe/Paris:20241222T200000
DTSTAMP:20260420T032751
CREATED:20241130T075247Z
LAST-MODIFIED:20241209T125524Z
UID:10002555-1734886800-1734897600@www.gard30.fr
SUMMARY:Loto à Montfrin
DESCRIPTION:Salle du cercle / Salle Badès Midi / Bar Café du commerce \nSpécial Cartons pleins \n\nBon achat 120 €\nJambon desossé + panier garni\nAspirateur robot\netc. ..\n\nPrix des cartons : \n\n6 cartons 10 €\n4 cartons 7 €\n2 cartons 4 €
URL:https://www.gard30.fr/agenda/loto-a-montfrin-9-6/
LOCATION:Salle du Cercle – Montfrin\, Avenue du Docteur Matet\, Montfrin\, Gard\, 30490\, France
CATEGORIES:Loto
ATTACH;FMTTYPE=image/jpeg:https://www.gard30.fr/wp-content/uploads/2024/11/IMG_8203.jpg
GEO:43.8751614;4.5916717
X-APPLE-STRUCTURED-LOCATION;VALUE=URI;X-ADDRESS=Salle du Cercle – Montfrin Avenue du Docteur Matet Montfrin Gard 30490 France;X-APPLE-RADIUS=500;X-TITLE=Avenue du Docteur Matet:geo:4.5916717,43.8751614
END:VEVENT
END:VCALENDAR