BEGIN:VCALENDAR
VERSION:2.0
PRODID:-//Gard 30 - ECPv6.15.20//NONSGML v1.0//EN
CALSCALE:GREGORIAN
METHOD:PUBLISH
X-ORIGINAL-URL:https://www.gard30.fr
X-WR-CALDESC:Évènements pour Gard 30
REFRESH-INTERVAL;VALUE=DURATION:PT1H
X-Robots-Tag:noindex
X-PUBLISHED-TTL:PT1H
BEGIN:VTIMEZONE
TZID:Europe/Paris
BEGIN:DAYLIGHT
TZOFFSETFROM:+0100
TZOFFSETTO:+0200
TZNAME:CEST
DTSTART:20240331T010000
END:DAYLIGHT
BEGIN:STANDARD
TZOFFSETFROM:+0200
TZOFFSETTO:+0100
TZNAME:CET
DTSTART:20241027T010000
END:STANDARD
BEGIN:DAYLIGHT
TZOFFSETFROM:+0100
TZOFFSETTO:+0200
TZNAME:CEST
DTSTART:20250330T010000
END:DAYLIGHT
BEGIN:STANDARD
TZOFFSETFROM:+0200
TZOFFSETTO:+0100
TZNAME:CET
DTSTART:20251026T010000
END:STANDARD
BEGIN:DAYLIGHT
TZOFFSETFROM:+0100
TZOFFSETTO:+0200
TZNAME:CEST
DTSTART:20260329T010000
END:DAYLIGHT
BEGIN:STANDARD
TZOFFSETFROM:+0200
TZOFFSETTO:+0100
TZNAME:CET
DTSTART:20261025T010000
END:STANDARD
END:VTIMEZONE
BEGIN:VEVENT
DTSTART;TZID=Europe/Paris:20250406T143000
DTEND;TZID=Europe/Paris:20250406T173000
DTSTAMP:20260422T160417
CREATED:20250311T103309Z
LAST-MODIFIED:20250311T103309Z
UID:10003310-1743949800-1743960600@www.gard30.fr
SUMMARY:Loto à Pont Saint Esprit
DESCRIPTION:Loto à Pont Saint Esprit le 6 avril à 14h30 \nOuverture des portes à 13h30 \n\n2€ le carton\n10€ les 6 cartons\n2 cartons pleins\n30 quines\n1 carton vide\nTombola\nTrottinette électrique\, machine à bière\, bon d’achat 200€\, air fryer\n\nResneignements : lessaltosgymnastique@gmail.com
URL:https://www.gard30.fr/agenda/loto-a-pont-saint-esprit-8/
LOCATION:CitéZen – Caserne Pépin – Pont-Saint-Esprit\, Pont-Saint-Esprit\, Gard\, 30130\, France
CATEGORIES:Loto
ATTACH;FMTTYPE=image/jpeg:https://www.gard30.fr/wp-content/uploads/2025/03/6B9FBE5D-2E6D-4CCF-9C71-C83DC382CC8E_1_105_c.jpeg
ORGANIZER;CN="Les Saltos Gymnastique - Pont-Saint-Esprit":MAILTO:lessaltosgymnastique@gmail.com
GEO:44.261034;4.648079
END:VEVENT
END:VCALENDAR