BEGIN:VCALENDAR
VERSION:2.0
PRODID:-//Gard 30 - ECPv6.15.20//NONSGML v1.0//EN
CALSCALE:GREGORIAN
METHOD:PUBLISH
X-ORIGINAL-URL:https://www.gard30.fr
X-WR-CALDESC:Évènements pour Gard 30
REFRESH-INTERVAL;VALUE=DURATION:PT1H
X-Robots-Tag:noindex
X-PUBLISHED-TTL:PT1H
BEGIN:VTIMEZONE
TZID:Europe/Paris
BEGIN:DAYLIGHT
TZOFFSETFROM:+0100
TZOFFSETTO:+0200
TZNAME:CEST
DTSTART:20230326T010000
END:DAYLIGHT
BEGIN:STANDARD
TZOFFSETFROM:+0200
TZOFFSETTO:+0100
TZNAME:CET
DTSTART:20231029T010000
END:STANDARD
BEGIN:DAYLIGHT
TZOFFSETFROM:+0100
TZOFFSETTO:+0200
TZNAME:CEST
DTSTART:20240331T010000
END:DAYLIGHT
BEGIN:STANDARD
TZOFFSETFROM:+0200
TZOFFSETTO:+0100
TZNAME:CET
DTSTART:20241027T010000
END:STANDARD
BEGIN:DAYLIGHT
TZOFFSETFROM:+0100
TZOFFSETTO:+0200
TZNAME:CEST
DTSTART:20250330T010000
END:DAYLIGHT
BEGIN:STANDARD
TZOFFSETFROM:+0200
TZOFFSETTO:+0100
TZNAME:CET
DTSTART:20251026T010000
END:STANDARD
BEGIN:DAYLIGHT
TZOFFSETFROM:+0100
TZOFFSETTO:+0200
TZNAME:CEST
DTSTART:20260329T010000
END:DAYLIGHT
BEGIN:STANDARD
TZOFFSETFROM:+0200
TZOFFSETTO:+0100
TZNAME:CET
DTSTART:20261025T010000
END:STANDARD
END:VTIMEZONE
BEGIN:VEVENT
DTSTART;TZID=Europe/Paris:20251101T100000
DTEND;TZID=Europe/Paris:20251101T180000
DTSTAMP:20260420T191709
CREATED:20251021T154216Z
LAST-MODIFIED:20251021T154216Z
UID:10004531-1761991200-1762020000@www.gard30.fr
SUMMARY:Marché des sorcières 2025 à Saint-Chaptes
DESCRIPTION:Samedi 1er novembre\n\nAnimations\nMarché Artisanal produits du terroir\nArtisanat S’art\nDemonstrations\nAteliers enfants\nRestauration\nEstaminet
URL:https://www.gard30.fr/agenda/marche-des-sorcieres-2025-a-saint-chaptes/
LOCATION:Ville de Saint-Chaptes\, Saint-Chaptes\, Gard\, 30190\, France
CATEGORIES:Fêtes traditionnelles
ATTACH;FMTTYPE=image/jpeg:https://www.gard30.fr/wp-content/uploads/2025/10/B5494CC2-5BD5-46E8-9F0A-40B70B1EF678_1_105_c-1-1.jpeg
ORGANIZER;CN="Les sorci%C3%A8res de Saint-Chaptes":MAILTO:lessorcieresdesaintchaptes@gmail.com
GEO:43.970446;4.278316
END:VEVENT
BEGIN:VEVENT
DTSTART;TZID=Europe/Paris:20241101T100000
DTEND;TZID=Europe/Paris:20241101T180000
DTSTAMP:20260420T191709
CREATED:20241010T101108Z
LAST-MODIFIED:20241010T101108Z
UID:10001977-1730455200-1730484000@www.gard30.fr
SUMMARY:Marché des sorcières de Saint-Chaptes
DESCRIPTION:Le Marché des sorcières de Saint-Chaptes est l’endroit idéal pour célébrer la Toussaint et profiter d’une fête traditionnelle unique. Tout au long de cet événement\, vous serez enchanté(e) par une variété de spectacles et d’animations captivants. Que vous soyez amateur(trice) de magie\, de contes mystérieux ou de démonstrations artistiques\, ce marché saura vous divertir. Pour connaître en détail le programme de la fête\, nous vous invitons à consulter la page dédiée à cet événement. De plus\, vous serez peut-être intéressé(e) d’apprendre que la commune de Saint-Chaptes abrite également le domaine de la Tour\, un monument historique classé en 2011. Venez donc vous amuser et explorer toute la magie que cette charmante localité a à offrir. \nVendredi 1 novembre \n\nDe 10h à 18h : Animations\nMarché Artisanal\nProduits du terroir\nArtisanat d’art\nDémonstrations\nAteliers enfants\nRestauration\nEstaminet\n\nEntrée Gratuite \nVous pouvez consulter le programme du loto de 2023 et celui de la fête votive de 2022.
URL:https://www.gard30.fr/agenda/marche-des-sorcieres-de-saint-chaptes/
LOCATION:Ville de Saint-Chaptes\, Saint-Chaptes\, Gard\, 30190\, France
CATEGORIES:Fêtes traditionnelles
ATTACH;FMTTYPE=image/jpeg:https://www.gard30.fr/wp-content/uploads/2024/10/24F3D0FD-0AB0-4D1C-A7BB-D430C6ED2F17_1_105_c.jpeg
ORGANIZER;CN="Les sorci%C3%A8res de Saint-Chaptes":MAILTO:lessorcieresdesaintchaptes@gmail.com
GEO:43.970446;4.278316
END:VEVENT
END:VCALENDAR