BEGIN:VCALENDAR
VERSION:2.0
PRODID:-//Gard 30 - ECPv6.15.20//NONSGML v1.0//EN
CALSCALE:GREGORIAN
METHOD:PUBLISH
X-WR-CALNAME:Gard 30
X-ORIGINAL-URL:https://www.gard30.fr
X-WR-CALDESC:Évènements pour Gard 30
REFRESH-INTERVAL;VALUE=DURATION:PT1H
X-Robots-Tag:noindex
X-PUBLISHED-TTL:PT1H
BEGIN:VTIMEZONE
TZID:Europe/Paris
BEGIN:DAYLIGHT
TZOFFSETFROM:+0100
TZOFFSETTO:+0200
TZNAME:CEST
DTSTART:20240331T010000
END:DAYLIGHT
BEGIN:STANDARD
TZOFFSETFROM:+0200
TZOFFSETTO:+0100
TZNAME:CET
DTSTART:20241027T010000
END:STANDARD
BEGIN:DAYLIGHT
TZOFFSETFROM:+0100
TZOFFSETTO:+0200
TZNAME:CEST
DTSTART:20250330T010000
END:DAYLIGHT
BEGIN:STANDARD
TZOFFSETFROM:+0200
TZOFFSETTO:+0100
TZNAME:CET
DTSTART:20251026T010000
END:STANDARD
BEGIN:DAYLIGHT
TZOFFSETFROM:+0100
TZOFFSETTO:+0200
TZNAME:CEST
DTSTART:20260329T010000
END:DAYLIGHT
BEGIN:STANDARD
TZOFFSETFROM:+0200
TZOFFSETTO:+0100
TZNAME:CET
DTSTART:20261025T010000
END:STANDARD
END:VTIMEZONE
BEGIN:VEVENT
DTSTART;TZID=Europe/Paris:20250501T081000
DTEND;TZID=Europe/Paris:20250501T170000
DTSTAMP:20260421T044654
CREATED:20250122T165542Z
LAST-MODIFIED:20250123T090045Z
UID:10002951-1746087000-1746118800@www.gard30.fr
SUMMARY:30ème Semi-Marathon de Nîmes
DESCRIPTION:L’année 2025 sera mémorable pour notre belle ville de Nîmes\, car nous fêterons ensemble la 30ème édition de notre emblématique Semi-Marathon. Depuis trois décennies\, cet événement rassemble des coureurs passionnés\, des amateurs de sport et des familles\, tous unis par l’esprit de dépassement de soi et de convivialité. \nLa 30ᵉ édition du Semi-Marathon de Nîmes sera célébrée\, attirant des coureurs venant de toute la France. Le tracé de 21 km parcourt les lieux emblématiques de la ville\, combinant challenge sportif et découverte culturelle. Des courses complémentaires\, comme le 10 km et des épreuves destinées aux enfants\, ont également été prévues\, afin de permettre la participation de tous les âges. \nLes inscriptions peuvent être effectuées en ligne\, avec des tarifs préférentiels pour les inscriptions anticipées. Autorisation parentale obligatoire pour les mineurs \n 
URL:https://www.gard30.fr/agenda/30eme-semi-marathon-de-nimes/
LOCATION:Ville de Nîmes\, Nîmes\, Gard\, 30000\, France
CATEGORIES:Sport
ATTACH;FMTTYPE=image/jpeg:https://www.gard30.fr/wp-content/uploads/2025/01/Affiche-Semi-marathon-de-Nimes.jpg
ORGANIZER;CN="Macadam Club N%C3%AEmois":MAILTO:mcnimes30@gmail.com
GEO:43.8791313;4.3770704
END:VEVENT
END:VCALENDAR