BEGIN:VCALENDAR
VERSION:2.0
PRODID:-//Gard 30 - ECPv6.15.20//NONSGML v1.0//EN
CALSCALE:GREGORIAN
METHOD:PUBLISH
X-ORIGINAL-URL:https://www.gard30.fr
X-WR-CALDESC:Évènements pour Gard 30
REFRESH-INTERVAL;VALUE=DURATION:PT1H
X-Robots-Tag:noindex
X-PUBLISHED-TTL:PT1H
BEGIN:VTIMEZONE
TZID:Europe/Paris
BEGIN:DAYLIGHT
TZOFFSETFROM:+0100
TZOFFSETTO:+0200
TZNAME:CEST
DTSTART:20210328T010000
END:DAYLIGHT
BEGIN:STANDARD
TZOFFSETFROM:+0200
TZOFFSETTO:+0100
TZNAME:CET
DTSTART:20211031T010000
END:STANDARD
BEGIN:DAYLIGHT
TZOFFSETFROM:+0100
TZOFFSETTO:+0200
TZNAME:CEST
DTSTART:20220327T010000
END:DAYLIGHT
BEGIN:STANDARD
TZOFFSETFROM:+0200
TZOFFSETTO:+0100
TZNAME:CET
DTSTART:20221030T010000
END:STANDARD
BEGIN:DAYLIGHT
TZOFFSETFROM:+0100
TZOFFSETTO:+0200
TZNAME:CEST
DTSTART:20230326T010000
END:DAYLIGHT
BEGIN:STANDARD
TZOFFSETFROM:+0200
TZOFFSETTO:+0100
TZNAME:CET
DTSTART:20231029T010000
END:STANDARD
BEGIN:DAYLIGHT
TZOFFSETFROM:+0100
TZOFFSETTO:+0200
TZNAME:CEST
DTSTART:20240331T010000
END:DAYLIGHT
BEGIN:STANDARD
TZOFFSETFROM:+0200
TZOFFSETTO:+0100
TZNAME:CET
DTSTART:20241027T010000
END:STANDARD
BEGIN:DAYLIGHT
TZOFFSETFROM:+0100
TZOFFSETTO:+0200
TZNAME:CEST
DTSTART:20250330T010000
END:DAYLIGHT
BEGIN:STANDARD
TZOFFSETFROM:+0200
TZOFFSETTO:+0100
TZNAME:CET
DTSTART:20251026T010000
END:STANDARD
END:VTIMEZONE
BEGIN:VEVENT
DTSTART;TZID=Europe/Paris:20240907T090000
DTEND;TZID=Europe/Paris:20240907T160000
DTSTAMP:20260421T194359
CREATED:20240826T151228Z
LAST-MODIFIED:20240826T151228Z
UID:10001865-1725699600-1725724800@www.gard30.fr
SUMMARY:Forum des associations 2024 à Milhaud
DESCRIPTION:Venez découvrir le Forum des associations 2024 à Milhaud\, un événement incontournable pour explorer les nombreuses opportunités offertes par les associations sportives et culturelles de la ville. Que vous soyez passionné de rugby\, de football\, de krav maga\, de danse country\, de volleyball\, de tennis\, de badminton ou de toute autre activité\, vous trouverez certainement votre bonheur au sein de ce tissu associatif riche et dynamique. Cet événement constitue une occasion unique de rencontrer les membres engagés de chaque association\, d’en apprendre davantage sur leurs activités et de vous inscrire pour participer. Ne manquez pas cette opportunité de vous impliquer dans la vie sportive et culturelle de Milhaud et de trouver l’activité qui vous passionne.
URL:https://www.gard30.fr/agenda/forum-des-associations-2024-a-milhaud/
LOCATION:Centre socio culturel Milhaud\, Place Frédéric Mistral\, Milhaud\, Gard\, 30540\, France
CATEGORIES:Sport
ATTACH;FMTTYPE=image/jpeg:https://www.gard30.fr/wp-content/uploads/2024/08/457018030_26887012724223006_3755217304792060524_n.jpg
ORGANIZER;CN="Mairie de Milhaud":MAILTO:communication@milhaud.fr
GEO:43.7909325;4.3092651
X-APPLE-STRUCTURED-LOCATION;VALUE=URI;X-ADDRESS=Centre socio culturel Milhaud Place Frédéric Mistral Milhaud Gard 30540 France;X-APPLE-RADIUS=500;X-TITLE=Place Frédéric Mistral:geo:4.3092651,43.7909325
END:VEVENT
BEGIN:VEVENT
DTSTART;VALUE=DATE:20220727
DTEND;VALUE=DATE:20220801
DTSTAMP:20260421T194359
CREATED:20220707T073553Z
LAST-MODIFIED:20220729T132734Z
UID:10000342-1658880000-1659311999@www.gard30.fr
SUMMARY:Fête votive de Milhaud 2022
DESCRIPTION:MERCREDI 27 JUILLET \n\n20h30 Soirée Film Taurin Entrée Gratuite aux Arènes\n\nJEUDI 28   \n\n18h30-Défilé : Départ des Arènes avec la Jeunesse\, la Peña « L’Occitane » & les Gardians\n19h30 Abrivado Bandido (Manade DU GARDON)\n21h30 Abrivado Bandido (Manade DU GARDON)\n22h00 Animation musicale avec l’Orchestre COCKTAIL DE NUIT\n\nVENDREDI 29   \n\n10h00 Fiesta des Enfants au Boulodrome\n12h30 Abrivado Bandido (Manade DEVAUX)suivi de l’Apéro Tradition organisé par la Jeunesse (TShirt blanc – Foulard rouge) avec DJ Vincent ARBRUN\n15h00 Concours de « Lancer d’espadrille » organisé par la Jeunesse (Place Neuve)\n17h00 Course de Taureaux jeunes (Manades Chapelle\, Vitou et Lautier)\n19h30 Abrivado Bandido (Manade DEVAUX)\n21h30 Charlottade organisée par la Jeunesse (Manade RATOU)(Arènes)\n22h00 Animation musicale avec DJ « LA JUNGLE »\n22h00 Animation musicale musette avec TRUMPET MELODY (Place du Castellas)\n\nSAMEDI 30 \n\n09h30 Déjeuner aux Platanettes animé par la Peña « La Provençale » offert par la Municipalité & la Jeunesse\n12h00 Abrivado Bandido (Manade CAYZAC) suivi de l’Apéro Fluo organisé par la Jeunesse avec DJ Pierrick MENRAS\n14h00 Animation « LE VENTRE QUI GLISSE » (Place Neuve)\n17h00 Course du Trophée de l’Avenir (Manades Lagarde\, du Cougourlier\, Blatière Bessac\, Fabre-Mailhan)\n19h30 Festival d’Abrivado Bandido (Manades CAYZAC & ROBERT H)\n21h30 Encierro (Boulodrome-Arènes) (Manade ROBERT H)\n22h00 Animation musicale avec DJ Tottoff « IBIZARGUES »\n22h00 Animation musicale avec LES Z’ANONÎMES (Place du Castellas)\n\nDIMANCHE 31   \n\n09h30 Journée à l’Ancienne organisée par la Jeunesse & Déjeuner aux Platanettes animé par la Peña « Mistral »\n11h00 Départ de La Longue (Manade AUBANEL)\n12h00 Abrivado Bandido (Manade BRIAUX) suivi de l’Apéro Mousse organisé par la Jeunesse & le Bar de la Place avec DJ Romain GRAZIOLI\n17h00 Course du Trophée de l’Avenir (Manades Lagarde\, du Cougourlier\, Blatière Bessac\, Fabre-Mailhan)\n19h30 Festival d’Abrivado Bandido (Manade AUBANEL & BRIAUX)\n21h30 « OLYMPIADES » (Manades GILLET\, VELLAS & VITOU) animation par Joris ALVAREZ suivi du Toro de Fuego (Arènes) et du Feu d’artifice (Parking Lycée)\n\n  \n  \n\nParcours Abrivados-Bandidos : Rte de Nîmes-Rte de Montpellier-Tour de la Montre-Rue du Moulin\nParcours Longue : Départ des Platanettes – Arrivée  Rte de Nîmes\nParticipation du Groupe Folklorique “DE GARRIGUE EN MISTRAL” lors des Courses & Olympiades\nSTANDS FORAINS PENDANT TOUTE LA DURÉE DE LA FÊTE\nRestauration assurée tout au long de la Fête\, Place du Castellas par le “PÉCHÉ MIGNON TRAITEUR”
URL:https://www.gard30.fr/agenda/fete-votive-de-milhaud-2022/
LOCATION:Arènes de Milhaud\, Rue du Moulin\, Milhaud\, Gard\, 30540\, France
CATEGORIES:Fêtes votives
ATTACH;FMTTYPE=image/jpeg:https://www.gard30.fr/wp-content/uploads/2022/07/292408178_3192668984308439_6150959384691841771_n.jpg
ORGANIZER;CN="Mairie de Milhaud":MAILTO:communication@milhaud.fr
GEO:43.7876284;4.3097559
X-APPLE-STRUCTURED-LOCATION;VALUE=URI;X-ADDRESS=Arènes de Milhaud Rue du Moulin Milhaud Gard 30540 France;X-APPLE-RADIUS=500;X-TITLE=Rue du Moulin:geo:4.3097559,43.7876284
END:VEVENT
END:VCALENDAR