BEGIN:VCALENDAR
VERSION:2.0
PRODID:-//Gard 30 - ECPv6.15.20//NONSGML v1.0//EN
CALSCALE:GREGORIAN
METHOD:PUBLISH
X-WR-CALNAME:Gard 30
X-ORIGINAL-URL:https://www.gard30.fr
X-WR-CALDESC:Évènements pour Gard 30
REFRESH-INTERVAL;VALUE=DURATION:PT1H
X-Robots-Tag:noindex
X-PUBLISHED-TTL:PT1H
BEGIN:VTIMEZONE
TZID:Europe/Paris
BEGIN:DAYLIGHT
TZOFFSETFROM:+0100
TZOFFSETTO:+0200
TZNAME:CEST
DTSTART:20240331T010000
END:DAYLIGHT
BEGIN:STANDARD
TZOFFSETFROM:+0200
TZOFFSETTO:+0100
TZNAME:CET
DTSTART:20241027T010000
END:STANDARD
BEGIN:DAYLIGHT
TZOFFSETFROM:+0100
TZOFFSETTO:+0200
TZNAME:CEST
DTSTART:20250330T010000
END:DAYLIGHT
BEGIN:STANDARD
TZOFFSETFROM:+0200
TZOFFSETTO:+0100
TZNAME:CET
DTSTART:20251026T010000
END:STANDARD
BEGIN:DAYLIGHT
TZOFFSETFROM:+0100
TZOFFSETTO:+0200
TZNAME:CEST
DTSTART:20260329T010000
END:DAYLIGHT
BEGIN:STANDARD
TZOFFSETFROM:+0200
TZOFFSETTO:+0100
TZNAME:CET
DTSTART:20261025T010000
END:STANDARD
END:VTIMEZONE
BEGIN:VEVENT
DTSTART;TZID=Europe/Paris:20250223T153000
DTEND;TZID=Europe/Paris:20250223T183000
DTSTAMP:20260423T192757
CREATED:20250222T111646Z
LAST-MODIFIED:20250222T111646Z
UID:10003163-1740324600-1740335400@www.gard30.fr
SUMMARY:Loto à Gajan
DESCRIPTION:16 quines : Jambons\, bons d’achat\, filets garnis…\n2 cartons pleins : Bons d’achat de 150 euros.\n1 carton vide : Valeur 75 euros.\n10 euros les 8 cartons
URL:https://www.gard30.fr/agenda/loto-a-gajan-2/
LOCATION:Espace La Davalade – Gajan\, D300\, Gajan\, Gard\, 30730\, France
CATEGORIES:Loto
ATTACH;FMTTYPE=image/jpeg:https://www.gard30.fr/wp-content/uploads/2025/02/54D1483F-4FB2-4CE1-B957-AFC3B13C57B7_1_105_c.jpeg
ORGANIZER;CN="Soci%C3%A9t%C3%A9 de chasse La Candoulette - Gajan":MAILTO:delphinesamper30@gmail.com
GEO:43.8994553;4.2174914
X-APPLE-STRUCTURED-LOCATION;VALUE=URI;X-ADDRESS=Espace La Davalade – Gajan D300 Gajan Gard 30730 France;X-APPLE-RADIUS=500;X-TITLE=D300:geo:4.2174914,43.8994553
END:VEVENT
END:VCALENDAR